BEGIN:VCALENDAR
VERSION:2.0
PRODID:-//ICS Generator//NONSGML ICS Generator//DE
BEGIN:VEVENT
UID:1761758088066-h93fck4?@ics-generator.de
DTSTAMP:20251029T171448Z
DTSTART:20251117T180000
DTEND:20251117T200000
SUMMARY:1. Vollversammlung Kreiselternrat SOE SJ 2025/26
LOCATION:Oberschule "Carl Friedrich Gauß"\, Struppener Straße 11\, Pirna
BEGIN:VALARM
ACTION:DISPLAY
TRIGGER:-PT30M
DESCRIPTION:Reminder
END:VALARM
END:VEVENT
END:VCALENDAR
